BEGIN:VCALENDAR
VERSION:2.0
PRODID:-//Watertown First UMC - ECPv6.15.20//NONSGML v1.0//EN
CALSCALE:GREGORIAN
METHOD:PUBLISH
X-WR-CALNAME:Watertown First UMC
X-ORIGINAL-URL:https://watertownfirst.church
X-WR-CALDESC:Events for Watertown First UMC
REFRESH-INTERVAL;VALUE=DURATION:PT1H
X-Robots-Tag:noindex
X-PUBLISHED-TTL:PT1H
BEGIN:VTIMEZONE
TZID:America/Chicago
BEGIN:DAYLIGHT
TZOFFSETFROM:-0600
TZOFFSETTO:-0500
TZNAME:CDT
DTSTART:20250309T080000
END:DAYLIGHT
BEGIN:STANDARD
TZOFFSETFROM:-0500
TZOFFSETTO:-0600
TZNAME:CST
DTSTART:20251102T070000
END:STANDARD
BEGIN:DAYLIGHT
TZOFFSETFROM:-0600
TZOFFSETTO:-0500
TZNAME:CDT
DTSTART:20260308T080000
END:DAYLIGHT
BEGIN:STANDARD
TZOFFSETFROM:-0500
TZOFFSETTO:-0600
TZNAME:CST
DTSTART:20261101T070000
END:STANDARD
BEGIN:DAYLIGHT
TZOFFSETFROM:-0600
TZOFFSETTO:-0500
TZNAME:CDT
DTSTART:20270314T080000
END:DAYLIGHT
BEGIN:STANDARD
TZOFFSETFROM:-0500
TZOFFSETTO:-0600
TZNAME:CST
DTSTART:20271107T070000
END:STANDARD
END:VTIMEZONE
BEGIN:VEVENT
DTSTART;TZID=America/Chicago:20260303T100000
DTEND;TZID=America/Chicago:20260303T113000
DTSTAMP:20260419T071353
CREATED:20251203T150253Z
LAST-MODIFIED:20260303T163204Z
UID:10008817-1772532000-1772537400@watertownfirst.church
SUMMARY:Prayer Team
DESCRIPTION:
URL:https://watertownfirst.church/event/prayer-team-41/
CATEGORIES:Serve Opportunities
END:VEVENT
BEGIN:VEVENT
DTSTART;TZID=America/Chicago:20260310T100000
DTEND;TZID=America/Chicago:20260310T113000
DTSTAMP:20260419T071353
CREATED:20251210T150324Z
LAST-MODIFIED:20260309T164712Z
UID:10008825-1773136800-1773142200@watertownfirst.church
SUMMARY:Prayer Team
DESCRIPTION:
URL:https://watertownfirst.church/event/prayer-team-42/
CATEGORIES:Serve Opportunities
END:VEVENT
BEGIN:VEVENT
DTSTART;TZID=America/Chicago:20260317T100000
DTEND;TZID=America/Chicago:20260317T113000
DTSTAMP:20260419T071353
CREATED:20251219T151605Z
LAST-MODIFIED:20260316T164728Z
UID:10008836-1773741600-1773747000@watertownfirst.church
SUMMARY:Prayer Team
DESCRIPTION:
URL:https://watertownfirst.church/event/prayer-team-43/
CATEGORIES:Serve Opportunities
END:VEVENT
BEGIN:VEVENT
DTSTART;TZID=America/Chicago:20260324T100000
DTEND;TZID=America/Chicago:20260324T113000
DTSTAMP:20260419T071353
CREATED:20251224T152219Z
LAST-MODIFIED:20260323T170356Z
UID:10008846-1774346400-1774351800@watertownfirst.church
SUMMARY:Prayer Team
DESCRIPTION:
URL:https://watertownfirst.church/event/prayer-team-44/
CATEGORIES:Serve Opportunities
END:VEVENT
BEGIN:VEVENT
DTSTART;TZID=America/Chicago:20260331T100000
DTEND;TZID=America/Chicago:20260331T113000
DTSTAMP:20260419T071353
CREATED:20251231T153219Z
LAST-MODIFIED:20260330T193154Z
UID:10008857-1774951200-1774956600@watertownfirst.church
SUMMARY:Prayer Team
DESCRIPTION:
URL:https://watertownfirst.church/event/prayer-team-45/
CATEGORIES:Serve Opportunities
END:VEVENT
BEGIN:VEVENT
DTSTART;TZID=America/Chicago:20260407T100000
DTEND;TZID=America/Chicago:20260407T113000
DTSTAMP:20260419T071353
CREATED:20260107T153150Z
LAST-MODIFIED:20260405T193233Z
UID:10008867-1775556000-1775561400@watertownfirst.church
SUMMARY:Prayer Team
DESCRIPTION:
URL:https://watertownfirst.church/event/prayer-team-46/
CATEGORIES:Serve Opportunities
END:VEVENT
BEGIN:VEVENT
DTSTART;TZID=America/Chicago:20260414T100000
DTEND;TZID=America/Chicago:20260414T113000
DTSTAMP:20260419T071353
CREATED:20260114T154809Z
LAST-MODIFIED:20260413T194653Z
UID:10008876-1776160800-1776166200@watertownfirst.church
SUMMARY:Prayer Team
DESCRIPTION:
URL:https://watertownfirst.church/event/prayer-team-47/
CATEGORIES:Serve Opportunities
END:VEVENT
BEGIN:VEVENT
DTSTART;TZID=America/Chicago:20260421T100000
DTEND;TZID=America/Chicago:20260421T113000
DTSTAMP:20260419T071353
CREATED:20260121T154821Z
LAST-MODIFIED:20260418T194712Z
UID:10008886-1776765600-1776771000@watertownfirst.church
SUMMARY:Prayer Team
DESCRIPTION:
URL:https://watertownfirst.church/event/prayer-team-48/
CATEGORIES:Serve Opportunities
END:VEVENT
BEGIN:VEVENT
DTSTART;TZID=America/Chicago:20260428T100000
DTEND;TZID=America/Chicago:20260428T113000
DTSTAMP:20260419T071353
CREATED:20260128T160231Z
LAST-MODIFIED:20260418T194713Z
UID:10008898-1777370400-1777375800@watertownfirst.church
SUMMARY:Prayer Team
DESCRIPTION:
URL:https://watertownfirst.church/event/prayer-team-49/
CATEGORIES:Serve Opportunities
END:VEVENT
BEGIN:VEVENT
DTSTART;TZID=America/Chicago:20260505T100000
DTEND;TZID=America/Chicago:20260505T113000
DTSTAMP:20260419T071353
CREATED:20260204T163346Z
LAST-MODIFIED:20260418T194713Z
UID:10008909-1777975200-1777980600@watertownfirst.church
SUMMARY:Prayer Team
DESCRIPTION:
URL:https://watertownfirst.church/event/prayer-team-50/
CATEGORIES:Serve Opportunities
END:VEVENT
BEGIN:VEVENT
DTSTART;TZID=America/Chicago:20260512T100000
DTEND;TZID=America/Chicago:20260512T113000
DTSTAMP:20260419T071353
CREATED:20260211T163205Z
LAST-MODIFIED:20260418T194713Z
UID:10008917-1778580000-1778585400@watertownfirst.church
SUMMARY:Prayer Team
DESCRIPTION:
URL:https://watertownfirst.church/event/prayer-team-51/
CATEGORIES:Serve Opportunities
END:VEVENT
BEGIN:VEVENT
DTSTART;TZID=America/Chicago:20260519T100000
DTEND;TZID=America/Chicago:20260519T113000
DTSTAMP:20260419T071353
CREATED:20260218T163243Z
LAST-MODIFIED:20260418T194713Z
UID:10008928-1779184800-1779190200@watertownfirst.church
SUMMARY:Prayer Team
DESCRIPTION:
URL:https://watertownfirst.church/event/prayer-team-52/
CATEGORIES:Serve Opportunities
END:VEVENT
BEGIN:VEVENT
DTSTART;TZID=America/Chicago:20260526T100000
DTEND;TZID=America/Chicago:20260526T113000
DTSTAMP:20260419T071353
CREATED:20260225T163301Z
LAST-MODIFIED:20260418T194731Z
UID:10008939-1779789600-1779795000@watertownfirst.church
SUMMARY:Prayer Team
DESCRIPTION:
URL:https://watertownfirst.church/event/prayer-team-53/
CATEGORIES:Serve Opportunities
END:VEVENT
BEGIN:VEVENT
DTSTART;TZID=America/Chicago:20260602T100000
DTEND;TZID=America/Chicago:20260602T113000
DTSTAMP:20260419T071353
CREATED:20260304T163526Z
LAST-MODIFIED:20260418T194731Z
UID:10008950-1780394400-1780399800@watertownfirst.church
SUMMARY:Prayer Team
DESCRIPTION:
URL:https://watertownfirst.church/event/prayer-team-54/
CATEGORIES:Serve Opportunities
END:VEVENT
BEGIN:VEVENT
DTSTART;TZID=America/Chicago:20260609T100000
DTEND;TZID=America/Chicago:20260609T113000
DTSTAMP:20260419T071353
CREATED:20260311T164654Z
LAST-MODIFIED:20260418T194731Z
UID:10008959-1780999200-1781004600@watertownfirst.church
SUMMARY:Prayer Team
DESCRIPTION:
URL:https://watertownfirst.church/event/prayer-team-55/
CATEGORIES:Serve Opportunities
END:VEVENT
BEGIN:VEVENT
DTSTART;TZID=America/Chicago:20260616T100000
DTEND;TZID=America/Chicago:20260616T113000
DTSTAMP:20260419T071353
CREATED:20260318T165107Z
LAST-MODIFIED:20260418T194731Z
UID:10008968-1781604000-1781609400@watertownfirst.church
SUMMARY:Prayer Team
DESCRIPTION:
URL:https://watertownfirst.church/event/prayer-team-56/
CATEGORIES:Serve Opportunities
END:VEVENT
BEGIN:VEVENT
DTSTART;TZID=America/Chicago:20260623T100000
DTEND;TZID=America/Chicago:20260623T113000
DTSTAMP:20260419T071353
CREATED:20260325T170320Z
LAST-MODIFIED:20260418T194731Z
UID:10008979-1782208800-1782214200@watertownfirst.church
SUMMARY:Prayer Team
DESCRIPTION:
URL:https://watertownfirst.church/event/prayer-team-57/
CATEGORIES:Serve Opportunities
END:VEVENT
BEGIN:VEVENT
DTSTART;TZID=America/Chicago:20260630T100000
DTEND;TZID=America/Chicago:20260630T113000
DTSTAMP:20260419T071353
CREATED:20260401T193724Z
LAST-MODIFIED:20260418T194830Z
UID:10008991-1782813600-1782819000@watertownfirst.church
SUMMARY:Prayer Team
DESCRIPTION:
URL:https://watertownfirst.church/event/prayer-team-58/
CATEGORIES:Serve Opportunities
END:VEVENT
BEGIN:VEVENT
DTSTART;TZID=America/Chicago:20260707T100000
DTEND;TZID=America/Chicago:20260707T113000
DTSTAMP:20260419T071353
CREATED:20260408T194725Z
LAST-MODIFIED:20260418T194830Z
UID:10009001-1783418400-1783423800@watertownfirst.church
SUMMARY:Prayer Team
DESCRIPTION:
URL:https://watertownfirst.church/event/prayer-team-59/
CATEGORIES:Serve Opportunities
END:VEVENT
BEGIN:VEVENT
DTSTART;TZID=America/Chicago:20260714T100000
DTEND;TZID=America/Chicago:20260714T113000
DTSTAMP:20260419T071353
CREATED:20260415T195048Z
LAST-MODIFIED:20260418T194830Z
UID:10009010-1784023200-1784028600@watertownfirst.church
SUMMARY:Prayer Team
DESCRIPTION:
URL:https://watertownfirst.church/event/prayer-team-60/
CATEGORIES:Serve Opportunities
END:VEVENT
END:VCALENDAR