BEGIN:VCALENDAR
VERSION:2.0
PRODID:-//Watertown First UMC - ECPv6.15.20//NONSGML v1.0//EN
CALSCALE:GREGORIAN
METHOD:PUBLISH
X-WR-CALNAME:Watertown First UMC
X-ORIGINAL-URL:https://watertownfirst.church
X-WR-CALDESC:Events for Watertown First UMC
REFRESH-INTERVAL;VALUE=DURATION:PT1H
X-Robots-Tag:noindex
X-PUBLISHED-TTL:PT1H
BEGIN:VTIMEZONE
TZID:America/Chicago
BEGIN:DAYLIGHT
TZOFFSETFROM:-0600
TZOFFSETTO:-0500
TZNAME:CDT
DTSTART:20230312T080000
END:DAYLIGHT
BEGIN:STANDARD
TZOFFSETFROM:-0500
TZOFFSETTO:-0600
TZNAME:CST
DTSTART:20231105T070000
END:STANDARD
BEGIN:DAYLIGHT
TZOFFSETFROM:-0600
TZOFFSETTO:-0500
TZNAME:CDT
DTSTART:20240310T080000
END:DAYLIGHT
BEGIN:STANDARD
TZOFFSETFROM:-0500
TZOFFSETTO:-0600
TZNAME:CST
DTSTART:20241103T070000
END:STANDARD
BEGIN:DAYLIGHT
TZOFFSETFROM:-0600
TZOFFSETTO:-0500
TZNAME:CDT
DTSTART:20250309T080000
END:DAYLIGHT
BEGIN:STANDARD
TZOFFSETFROM:-0500
TZOFFSETTO:-0600
TZNAME:CST
DTSTART:20251102T070000
END:STANDARD
END:VTIMEZONE
BEGIN:VEVENT
DTSTART;TZID=America/Chicago:20240908T100000
DTEND;TZID=America/Chicago:20240908T110000
DTSTAMP:20260421T064439
CREATED:20240709T162153Z
LAST-MODIFIED:20240907T201644Z
UID:10007307-1725789600-1725793200@watertownfirst.church
SUMMARY:First Kids School
DESCRIPTION:Children 4 years old and up are invited to join First Kids School following the Time for Young Disciples and will return to worship to join their families prior to the closing time of worship.
URL:https://watertownfirst.church/event/first-kids-school-113/
CATEGORIES:First Kids
END:VEVENT
BEGIN:VEVENT
DTSTART;TZID=America/Chicago:20240908T100000
DTEND;TZID=America/Chicago:20240908T110000
DTSTAMP:20260421T064439
CREATED:20241017T154612Z
LAST-MODIFIED:20241017T154612Z
UID:10007421-1725789600-1725793200@watertownfirst.church
SUMMARY:Blended Worship
DESCRIPTION:In Person & Online Blended Worship here at First UMC
URL:https://watertownfirst.church/event/blended-worship-118/
CATEGORIES:Church Wide
END:VEVENT
BEGIN:VEVENT
DTSTART;TZID=America/Chicago:20240910T173000
DTEND;TZID=America/Chicago:20240910T183000
DTSTAMP:20260421T064439
CREATED:20240709T162156Z
LAST-MODIFIED:20240910T183343Z
UID:10007309-1725989400-1725993000@watertownfirst.church
SUMMARY:Leadership Team Meeting
DESCRIPTION:
URL:https://watertownfirst.church/event/leadership-team-meeting-22/
CATEGORIES:Church Wide
END:VEVENT
BEGIN:VEVENT
DTSTART;TZID=America/Chicago:20240911T090000
DTEND;TZID=America/Chicago:20240911T100000
DTSTAMP:20260421T064439
CREATED:20240709T161831Z
LAST-MODIFIED:20240910T214718Z
UID:10007308-1726045200-1726048800@watertownfirst.church
SUMMARY:Morning Glories Women's Group
DESCRIPTION:Formerly Esther Circle.  As our group changes\, we will continue to discuss the truth of the Word with fellowship and community.  Join us as we come together to give God the glory.
URL:https://watertownfirst.church/event/morning-glories-womens-group-24/
LOCATION:Church Lounge
CATEGORIES:Grow Groups
END:VEVENT
BEGIN:VEVENT
DTSTART;TZID=America/Chicago:20240912T180000
DTEND;TZID=America/Chicago:20240912T190000
DTSTAMP:20260421T064439
CREATED:20240709T161831Z
LAST-MODIFIED:20240709T161831Z
UID:10007310-1726164000-1726167600@watertownfirst.church
SUMMARY:Unity Band Rehearsal
DESCRIPTION:We are always looking for folks that are interested in music to join the unity band (instrumental or vocal) or anyone interested in Technology to help in our sound booth (training available). The unity band rehearses each Wednesday at 7:30 pm and leads  music at the 10 am worship service on Sundays.  If you are interested in learning more or to volunteer\, please contact Lucas Severson.
URL:https://watertownfirst.church/event/unity-band-rehearsal-119/
CATEGORIES:Church Wide
END:VEVENT
BEGIN:VEVENT
DTSTART;TZID=America/Chicago:20240914T070000
DTEND;TZID=America/Chicago:20240914T080000
DTSTAMP:20260421T064439
CREATED:20240709T161832Z
LAST-MODIFIED:20240913T220233Z
UID:10007314-1726297200-1726300800@watertownfirst.church
SUMMARY:Back Room Boys
DESCRIPTION:Men’s group meets in the church library for Bible Study discussion over rolls and coffee.
URL:https://watertownfirst.church/event/back-room-boys-93/
CATEGORIES:Grow Groups
END:VEVENT
BEGIN:VEVENT
DTSTART;TZID=America/Chicago:20240914T090000
DTEND;TZID=America/Chicago:20240914T100000
DTSTAMP:20260421T064439
CREATED:20240709T161832Z
LAST-MODIFIED:20240913T220233Z
UID:10007315-1726304400-1726308000@watertownfirst.church
SUMMARY:Late Risers
DESCRIPTION:Meets every Saturday at 9 am in the back room of The Grainary at Stone’s Truckstop. Over rolls and coffee\, this men’s group has a time of fellowship then discusses a reading from the Upper Room daily devotional. If you enjoy conversation\, camaraderie and spiritual discussion\, you’ll probably enjoy this group.
URL:https://watertownfirst.church/event/late-risers-93/
CATEGORIES:Grow Groups
END:VEVENT
BEGIN:VEVENT
DTSTART;TZID=America/Chicago:20240914T150000
DTEND;TZID=America/Chicago:20240914T160000
DTSTAMP:20260421T064439
CREATED:20240709T162156Z
LAST-MODIFIED:20240914T190157Z
UID:10007311-1726326000-1726329600@watertownfirst.church
SUMMARY:Praise Band Rehearsal
DESCRIPTION:We are always looking for folks that are interested in music to join the praise band (instrumental or vocal) or anyone interested in Technology to help in our sound booth (training available).  The praise band rehearses each Saturday at 3pm and leads worship music at the 5 pm worship service.  If you are interested in learning more or to volunteer\, please contact Lucas Severson.
URL:https://watertownfirst.church/event/praise-band-rehearsal-93/
CATEGORIES:Church Wide
END:VEVENT
BEGIN:VEVENT
DTSTART;TZID=America/Chicago:20240914T170000
DTEND;TZID=America/Chicago:20240914T180000
DTSTAMP:20260421T064439
CREATED:20240709T162038Z
LAST-MODIFIED:20240709T162038Z
UID:10007313-1726333200-1726336800@watertownfirst.church
SUMMARY:First Kids
DESCRIPTION:If you are age 4-Grade 4\, join us for First Kids (think traditional Sunday school\, but on Saturdays too\, and more fun!).\nKids will start in worship and move downstairs after opening music\, prayers\, and our Time for Young Disciples. They will remain downstairs for the duration of worship\, when parents can pick them up downstairs (in our Fellowship Hall).\nPlease note: children will stay in worship the first weekend of every month so they can join their family in worship — and share in the sacrament of Holy Communion.
URL:https://watertownfirst.church/event/first-kids-118/
CATEGORIES:First Kids
END:VEVENT
BEGIN:VEVENT
DTSTART;TZID=America/Chicago:20240914T170000
DTEND;TZID=America/Chicago:20240914T180000
DTSTAMP:20260421T064439
CREATED:20240709T162156Z
LAST-MODIFIED:20240914T190157Z
UID:10007312-1726333200-1726336800@watertownfirst.church
SUMMARY:Contemporary Worship
DESCRIPTION:Contemporary Worship Service in person and online.
URL:https://watertownfirst.church/event/contemporary-worship-93/
CATEGORIES:Church Wide
END:VEVENT
BEGIN:VEVENT
DTSTART;TZID=America/Chicago:20240915T093000
DTEND;TZID=America/Chicago:20240915T103000
DTSTAMP:20260421T064439
CREATED:20240709T162156Z
LAST-MODIFIED:20240905T183156Z
UID:10007316-1726392600-1726396200@watertownfirst.church
SUMMARY:Blended Worship
DESCRIPTION:In Person & Online Blended Worship here at First UMC
URL:https://watertownfirst.church/event/blended-worship-105/
CATEGORIES:Church Wide
END:VEVENT
BEGIN:VEVENT
DTSTART;TZID=America/Chicago:20240915T100000
DTEND;TZID=America/Chicago:20240915T110000
DTSTAMP:20260421T064439
CREATED:20240709T162153Z
LAST-MODIFIED:20240914T203425Z
UID:10007317-1726394400-1726398000@watertownfirst.church
SUMMARY:First Kids
DESCRIPTION:If you are age 4-Grade 4\, join us for First Kids (think traditional Sunday school\, but on Saturdays too\, and more fun!).\nKids will start in worship and move downstairs after opening music\, prayers\, and our Time for Young Disciples. They will remain downstairs for the duration of worship\, when parents can pick them up downstairs (in our Fellowship Hall).\nPlease note: children will stay in worship the first weekend of every month so they can join their family in worship — and share in the sacrament of Holy Communion.
URL:https://watertownfirst.church/event/first-kids-121/
CATEGORIES:First Kids
END:VEVENT
BEGIN:VEVENT
DTSTART;TZID=America/Chicago:20240915T100000
DTEND;TZID=America/Chicago:20240915T110000
DTSTAMP:20260421T064439
CREATED:20240709T162154Z
LAST-MODIFIED:20240914T203425Z
UID:10007318-1726394400-1726398000@watertownfirst.church
SUMMARY:First Kids School
DESCRIPTION:Children 4 years old and up are invited to join First Kids School following the Time for Young Disciples and will return to worship to join their families prior to the closing time of worship.
URL:https://watertownfirst.church/event/first-kids-school-114/
CATEGORIES:First Kids
END:VEVENT
BEGIN:VEVENT
DTSTART;TZID=America/Chicago:20240915T100000
DTEND;TZID=America/Chicago:20240915T110000
DTSTAMP:20260421T064439
CREATED:20241017T154612Z
LAST-MODIFIED:20241017T154612Z
UID:10007422-1726394400-1726398000@watertownfirst.church
SUMMARY:Blended Worship
DESCRIPTION:In Person & Online Blended Worship here at First UMC
URL:https://watertownfirst.church/event/blended-worship-119/
CATEGORIES:Church Wide
END:VEVENT
BEGIN:VEVENT
DTSTART;TZID=America/Chicago:20240917T113000
DTEND;TZID=America/Chicago:20240917T123000
DTSTAMP:20260421T064439
CREATED:20240709T161832Z
LAST-MODIFIED:20240916T220151Z
UID:10007319-1726572600-1726576200@watertownfirst.church
SUMMARY:Lunch A Bunch
DESCRIPTION:Join us at Godfather’s Pizza on the 3rd Tuesday of each month for good food and great conversation.  Intended for those 70 and older but anyone is welcome!
URL:https://watertownfirst.church/event/lunch-a-bunch-22/
CATEGORIES:Grow Groups
END:VEVENT
BEGIN:VEVENT
DTSTART;TZID=America/Chicago:20240919T180000
DTEND;TZID=America/Chicago:20240919T190000
DTSTAMP:20260421T064439
CREATED:20240709T162036Z
LAST-MODIFIED:20240709T162036Z
UID:10007320-1726768800-1726772400@watertownfirst.church
SUMMARY:Unity Band Rehearsal
DESCRIPTION:We are always looking for folks that are interested in music to join the unity band (instrumental or vocal) or anyone interested in Technology to help in our sound booth (training available). The unity band rehearses each Wednesday at 7:30 pm and leads  music at the 10 am worship service on Sundays.  If you are interested in learning more or to volunteer\, please contact Lucas Severson.
URL:https://watertownfirst.church/event/unity-band-rehearsal-120/
CATEGORIES:Church Wide
END:VEVENT
BEGIN:VEVENT
DTSTART;TZID=America/Chicago:20240921T070000
DTEND;TZID=America/Chicago:20240921T080000
DTSTAMP:20260421T064439
CREATED:20240709T161832Z
LAST-MODIFIED:20240920T220400Z
UID:10007324-1726902000-1726905600@watertownfirst.church
SUMMARY:Back Room Boys
DESCRIPTION:Men’s group meets in the church library for Bible Study discussion over rolls and coffee.
URL:https://watertownfirst.church/event/back-room-boys-94/
CATEGORIES:Grow Groups
END:VEVENT
BEGIN:VEVENT
DTSTART;TZID=America/Chicago:20240921T090000
DTEND;TZID=America/Chicago:20240921T100000
DTSTAMP:20260421T064439
CREATED:20240709T161832Z
LAST-MODIFIED:20240920T220400Z
UID:10007325-1726909200-1726912800@watertownfirst.church
SUMMARY:Late Risers
DESCRIPTION:Meets every Saturday at 9 am in the back room of The Grainary at Stone’s Truckstop. Over rolls and coffee\, this men’s group has a time of fellowship then discusses a reading from the Upper Room daily devotional. If you enjoy conversation\, camaraderie and spiritual discussion\, you’ll probably enjoy this group.
URL:https://watertownfirst.church/event/late-risers-94/
CATEGORIES:Grow Groups
END:VEVENT
BEGIN:VEVENT
DTSTART;TZID=America/Chicago:20240921T150000
DTEND;TZID=America/Chicago:20240921T160000
DTSTAMP:20260421T064439
CREATED:20240709T162156Z
LAST-MODIFIED:20240921T191825Z
UID:10007321-1726930800-1726934400@watertownfirst.church
SUMMARY:Praise Band Rehearsal
DESCRIPTION:We are always looking for folks that are interested in music to join the praise band (instrumental or vocal) or anyone interested in Technology to help in our sound booth (training available).  The praise band rehearses each Saturday at 3pm and leads worship music at the 5 pm worship service.  If you are interested in learning more or to volunteer\, please contact Lucas Severson.
URL:https://watertownfirst.church/event/praise-band-rehearsal-94/
CATEGORIES:Church Wide
END:VEVENT
BEGIN:VEVENT
DTSTART;TZID=America/Chicago:20240921T170000
DTEND;TZID=America/Chicago:20240921T180000
DTSTAMP:20260421T064439
CREATED:20240709T162154Z
LAST-MODIFIED:20240921T203321Z
UID:10007323-1726938000-1726941600@watertownfirst.church
SUMMARY:First Kids
DESCRIPTION:If you are age 4-Grade 4\, join us for First Kids (think traditional Sunday school\, but on Saturdays too\, and more fun!).\nKids will start in worship and move downstairs after opening music\, prayers\, and our Time for Young Disciples. They will remain downstairs for the duration of worship\, when parents can pick them up downstairs (in our Fellowship Hall).\nPlease note: children will stay in worship the first weekend of every month so they can join their family in worship — and share in the sacrament of Holy Communion.
URL:https://watertownfirst.church/event/first-kids-122/
CATEGORIES:First Kids
END:VEVENT
BEGIN:VEVENT
DTSTART;TZID=America/Chicago:20240921T170000
DTEND;TZID=America/Chicago:20240921T180000
DTSTAMP:20260421T064439
CREATED:20240709T162156Z
LAST-MODIFIED:20240921T191825Z
UID:10007322-1726938000-1726941600@watertownfirst.church
SUMMARY:Contemporary Worship
DESCRIPTION:Contemporary Worship Service in person and online.
URL:https://watertownfirst.church/event/contemporary-worship-94/
CATEGORIES:Church Wide
END:VEVENT
BEGIN:VEVENT
DTSTART;TZID=America/Chicago:20240922T093000
DTEND;TZID=America/Chicago:20240922T103000
DTSTAMP:20260421T064439
CREATED:20240709T162156Z
LAST-MODIFIED:20240905T183157Z
UID:10007326-1726997400-1727001000@watertownfirst.church
SUMMARY:Blended Worship
DESCRIPTION:In Person & Online Blended Worship here at First UMC
URL:https://watertownfirst.church/event/blended-worship-106/
CATEGORIES:Church Wide
END:VEVENT
BEGIN:VEVENT
DTSTART;TZID=America/Chicago:20240922T100000
DTEND;TZID=America/Chicago:20240922T110000
DTSTAMP:20260421T064439
CREATED:20240709T161827Z
LAST-MODIFIED:20240921T203321Z
UID:10007328-1726999200-1727002800@watertownfirst.church
SUMMARY:First Kids School
DESCRIPTION:Children 4 years old and up are invited to join First Kids School following the Time for Young Disciples and will return to worship to join their families prior to the closing time of worship.
URL:https://watertownfirst.church/event/first-kids-school-103/
CATEGORIES:First Kids
END:VEVENT
BEGIN:VEVENT
DTSTART;TZID=America/Chicago:20240922T100000
DTEND;TZID=America/Chicago:20240922T110000
DTSTAMP:20260421T064439
CREATED:20240709T162154Z
LAST-MODIFIED:20240921T203321Z
UID:10007327-1726999200-1727002800@watertownfirst.church
SUMMARY:First Kids
DESCRIPTION:If you are age 4-Grade 4\, join us for First Kids (think traditional Sunday school\, but on Saturdays too\, and more fun!).\nKids will start in worship and move downstairs after opening music\, prayers\, and our Time for Young Disciples. They will remain downstairs for the duration of worship\, when parents can pick them up downstairs (in our Fellowship Hall).\nPlease note: children will stay in worship the first weekend of every month so they can join their family in worship — and share in the sacrament of Holy Communion.
URL:https://watertownfirst.church/event/first-kids-123/
CATEGORIES:First Kids
END:VEVENT
BEGIN:VEVENT
DTSTART;TZID=America/Chicago:20240922T100000
DTEND;TZID=America/Chicago:20240922T110000
DTSTAMP:20260421T064439
CREATED:20241017T154612Z
LAST-MODIFIED:20241017T154612Z
UID:10007423-1726999200-1727002800@watertownfirst.church
SUMMARY:Blended Worship
DESCRIPTION:In Person & Online Blended Worship here at First UMC
URL:https://watertownfirst.church/event/blended-worship-120/
CATEGORIES:Church Wide
END:VEVENT
BEGIN:VEVENT
DTSTART;TZID=America/Chicago:20240926T180000
DTEND;TZID=America/Chicago:20240926T190000
DTSTAMP:20260421T064439
CREATED:20240709T162036Z
LAST-MODIFIED:20240709T162036Z
UID:10007329-1727373600-1727377200@watertownfirst.church
SUMMARY:Unity Band Rehearsal
DESCRIPTION:We are always looking for folks that are interested in music to join the unity band (instrumental or vocal) or anyone interested in Technology to help in our sound booth (training available). The unity band rehearses each Wednesday at 7:30 pm and leads  music at the 10 am worship service on Sundays.  If you are interested in learning more or to volunteer\, please contact Lucas Severson.
URL:https://watertownfirst.church/event/unity-band-rehearsal-121/
CATEGORIES:Church Wide
END:VEVENT
BEGIN:VEVENT
DTSTART;TZID=America/Chicago:20240928T070000
DTEND;TZID=America/Chicago:20240928T080000
DTSTAMP:20260421T064439
CREATED:20240709T161832Z
LAST-MODIFIED:20240927T230358Z
UID:10007333-1727506800-1727510400@watertownfirst.church
SUMMARY:Back Room Boys
DESCRIPTION:Men’s group meets in the church library for Bible Study discussion over rolls and coffee.
URL:https://watertownfirst.church/event/back-room-boys-95/
CATEGORIES:Grow Groups
END:VEVENT
BEGIN:VEVENT
DTSTART;TZID=America/Chicago:20240928T090000
DTEND;TZID=America/Chicago:20240928T100000
DTSTAMP:20260421T064439
CREATED:20240709T161832Z
LAST-MODIFIED:20240927T230358Z
UID:10007334-1727514000-1727517600@watertownfirst.church
SUMMARY:Late Risers
DESCRIPTION:Meets every Saturday at 9 am in the back room of The Grainary at Stone’s Truckstop. Over rolls and coffee\, this men’s group has a time of fellowship then discusses a reading from the Upper Room daily devotional. If you enjoy conversation\, camaraderie and spiritual discussion\, you’ll probably enjoy this group.
URL:https://watertownfirst.church/event/late-risers-95/
CATEGORIES:Grow Groups
END:VEVENT
BEGIN:VEVENT
DTSTART;TZID=America/Chicago:20240928T150000
DTEND;TZID=America/Chicago:20240928T160000
DTSTAMP:20260421T064439
CREATED:20240709T162157Z
LAST-MODIFIED:20240928T191708Z
UID:10007330-1727535600-1727539200@watertownfirst.church
SUMMARY:Praise Band Rehearsal
DESCRIPTION:We are always looking for folks that are interested in music to join the praise band (instrumental or vocal) or anyone interested in Technology to help in our sound booth (training available).  The praise band rehearses each Saturday at 3pm and leads worship music at the 5 pm worship service.  If you are interested in learning more or to volunteer\, please contact Lucas Severson.
URL:https://watertownfirst.church/event/praise-band-rehearsal-95/
CATEGORIES:Church Wide
END:VEVENT
BEGIN:VEVENT
DTSTART;TZID=America/Chicago:20240928T170000
DTEND;TZID=America/Chicago:20240928T180000
DTSTAMP:20260421T064439
CREATED:20240709T161827Z
LAST-MODIFIED:20240928T204800Z
UID:10007332-1727542800-1727546400@watertownfirst.church
SUMMARY:First Kids
DESCRIPTION:If you are age 4-Grade 4\, join us for First Kids (think traditional Sunday school\, but on Saturdays too\, and more fun!).\nKids will start in worship and move downstairs after opening music\, prayers\, and our Time for Young Disciples. They will remain downstairs for the duration of worship\, when parents can pick them up downstairs (in our Fellowship Hall).\nPlease note: children will stay in worship the first weekend of every month so they can join their family in worship — and share in the sacrament of Holy Communion.
URL:https://watertownfirst.church/event/first-kids-106/
CATEGORIES:First Kids
END:VEVENT
END:VCALENDAR