BEGIN:VCALENDAR
VERSION:2.0
PRODID:-//Watertown First UMC - ECPv6.15.20//NONSGML v1.0//EN
CALSCALE:GREGORIAN
METHOD:PUBLISH
X-ORIGINAL-URL:https://watertownfirst.church
X-WR-CALDESC:Events for Watertown First UMC
REFRESH-INTERVAL;VALUE=DURATION:PT1H
X-Robots-Tag:noindex
X-PUBLISHED-TTL:PT1H
BEGIN:VTIMEZONE
TZID:America/Chicago
BEGIN:DAYLIGHT
TZOFFSETFROM:-0600
TZOFFSETTO:-0500
TZNAME:CDT
DTSTART:20240310T080000
END:DAYLIGHT
BEGIN:STANDARD
TZOFFSETFROM:-0500
TZOFFSETTO:-0600
TZNAME:CST
DTSTART:20241103T070000
END:STANDARD
BEGIN:DAYLIGHT
TZOFFSETFROM:-0600
TZOFFSETTO:-0500
TZNAME:CDT
DTSTART:20250309T080000
END:DAYLIGHT
BEGIN:STANDARD
TZOFFSETFROM:-0500
TZOFFSETTO:-0600
TZNAME:CST
DTSTART:20251102T070000
END:STANDARD
BEGIN:DAYLIGHT
TZOFFSETFROM:-0600
TZOFFSETTO:-0500
TZNAME:CDT
DTSTART:20260308T080000
END:DAYLIGHT
BEGIN:STANDARD
TZOFFSETFROM:-0500
TZOFFSETTO:-0600
TZNAME:CST
DTSTART:20261101T070000
END:STANDARD
END:VTIMEZONE
BEGIN:VEVENT
DTSTART;TZID=America/Chicago:20250804T173000
DTEND;TZID=America/Chicago:20250804T183000
DTSTAMP:20260423T015020
CREATED:20250520T204514Z
LAST-MODIFIED:20250804T210157Z
UID:10007881-1754328600-1754332200@watertownfirst.church
SUMMARY:Women of Grace
DESCRIPTION:What does a godly woman look like?  What does it mean to live as a woman of grace?  This study is centered around the notion that the bible gives us examples of fierce\, godly women. Join us as we discuss the lives of these biblical women and discover what it means to be a woman of grace.  Drop in any time\, visitors welcome.  Meets in the Church Lounge.
URL:https://watertownfirst.church/event/women-of-grace-32/
CATEGORIES:Grow Groups
END:VEVENT
BEGIN:VEVENT
DTSTART;TZID=America/Chicago:20250805T100000
DTEND;TZID=America/Chicago:20250805T113000
DTSTAMP:20260423T015020
CREATED:20250520T195747Z
LAST-MODIFIED:20250804T221651Z
UID:10007922-1754388000-1754393400@watertownfirst.church
SUMMARY:Prayer Team
DESCRIPTION:
URL:https://watertownfirst.church/event/prayer-team-11/
CATEGORIES:Serve Opportunities
END:VEVENT
BEGIN:VEVENT
DTSTART;TZID=America/Chicago:20250807T100000
DTEND;TZID=America/Chicago:20250807T110000
DTSTAMP:20260423T015020
CREATED:20250520T204514Z
LAST-MODIFIED:20250806T210310Z
UID:10007882-1754560800-1754564400@watertownfirst.church
SUMMARY:Women's Bible Study
DESCRIPTION:
URL:https://watertownfirst.church/event/womens-bible-study-58/
LOCATION:Fellowship Hall
CATEGORIES:Grow Groups
END:VEVENT
BEGIN:VEVENT
DTSTART;TZID=America/Chicago:20250809T070000
DTEND;TZID=America/Chicago:20250809T080000
DTSTAMP:20260423T015020
CREATED:20250520T204514Z
LAST-MODIFIED:20250808T210205Z
UID:10007885-1754722800-1754726400@watertownfirst.church
SUMMARY:Back Room Boys
DESCRIPTION:Men’s group meets in the church library for Bible Study discussion over rolls and coffee.
URL:https://watertownfirst.church/event/back-room-boys-140/
CATEGORIES:Grow Groups
END:VEVENT
BEGIN:VEVENT
DTSTART;TZID=America/Chicago:20250809T090000
DTEND;TZID=America/Chicago:20250809T100000
DTSTAMP:20260423T015020
CREATED:20250520T204514Z
LAST-MODIFIED:20250808T210205Z
UID:10007886-1754730000-1754733600@watertownfirst.church
SUMMARY:Late Risers
DESCRIPTION:Meets every Saturday at 9 am in the back room of The Grainary at Stone’s Truckstop. Over rolls and coffee\, this men’s group has a time of fellowship then discusses a reading from the Upper Room daily devotional. If you enjoy conversation\, camaraderie and spiritual discussion\, you’ll probably enjoy this group.
URL:https://watertownfirst.church/event/late-risers-140/
CATEGORIES:Grow Groups
END:VEVENT
BEGIN:VEVENT
DTSTART;TZID=America/Chicago:20250809T150000
DTEND;TZID=America/Chicago:20250809T160000
DTSTAMP:20260423T015020
CREATED:20250520T204551Z
LAST-MODIFIED:20250808T211844Z
UID:10007883-1754751600-1754755200@watertownfirst.church
SUMMARY:Praise Band Rehearsal
DESCRIPTION:We are always looking for folks that are interested in music to join the praise band (instrumental or vocal) or anyone interested in Technology to help in our sound booth (training available).  The praise band rehearses each Saturday at 3pm and leads worship music at the 5 pm worship service.  If you are interested in learning more or to volunteer\, please contact Lucas Severson.
URL:https://watertownfirst.church/event/praise-band-rehearsal-139/
CATEGORIES:Church Wide
END:VEVENT
BEGIN:VEVENT
DTSTART;TZID=America/Chicago:20250809T170000
DTEND;TZID=America/Chicago:20250809T180000
DTSTAMP:20260423T015020
CREATED:20250520T204551Z
LAST-MODIFIED:20250809T213220Z
UID:10007884-1754758800-1754762400@watertownfirst.church
SUMMARY:Contemporary Worship
DESCRIPTION:Contemporary Worship Service in person and online.
URL:https://watertownfirst.church/event/contemporary-worship-139/
CATEGORIES:Church Wide
END:VEVENT
BEGIN:VEVENT
DTSTART;TZID=America/Chicago:20250810T093000
DTEND;TZID=America/Chicago:20250810T103000
DTSTAMP:20260423T015020
CREATED:20250520T204319Z
LAST-MODIFIED:20250520T204319Z
UID:10007888-1754818200-1754821800@watertownfirst.church
SUMMARY:Unity Worship
DESCRIPTION:In Person & Online Blended Worship here at First UMC
URL:https://watertownfirst.church/event/unity-worship-11/
LOCATION:Sanctuary
CATEGORIES:Church Wide
END:VEVENT
BEGIN:VEVENT
DTSTART;TZID=America/Chicago:20250810T100000
DTEND;TZID=America/Chicago:20250810T110000
DTSTAMP:20260423T015020
CREATED:20250520T204432Z
LAST-MODIFIED:20250809T211651Z
UID:10007887-1754820000-1754823600@watertownfirst.church
SUMMARY:First Kids School
DESCRIPTION:Children 4 years old and up are invited to join First Kids School following the Time for Young Disciples and will return to worship to join their families prior to the closing time of worship.
URL:https://watertownfirst.church/event/first-kids-school-157/
CATEGORIES:First Kids
END:VEVENT
BEGIN:VEVENT
DTSTART;TZID=America/Chicago:20250812T100000
DTEND;TZID=America/Chicago:20250812T113000
DTSTAMP:20260423T015020
CREATED:20250520T195747Z
LAST-MODIFIED:20250811T221714Z
UID:10007923-1754992800-1754998200@watertownfirst.church
SUMMARY:Prayer Team
DESCRIPTION:
URL:https://watertownfirst.church/event/prayer-team-12/
CATEGORIES:Serve Opportunities
END:VEVENT
BEGIN:VEVENT
DTSTART;TZID=America/Chicago:20250813T090000
DTEND;TZID=America/Chicago:20250813T100000
DTSTAMP:20260423T015020
CREATED:20250520T204515Z
LAST-MODIFIED:20250812T210235Z
UID:10007889-1755075600-1755079200@watertownfirst.church
SUMMARY:Morning Glories Women's Group
DESCRIPTION:Formerly Esther Circle.  As our group changes\, we will continue to discuss the truth of the Word with fellowship and community.  Join us as we come together to give God the glory.
URL:https://watertownfirst.church/event/morning-glories-womens-group-35/
LOCATION:Church Lounge
CATEGORIES:Grow Groups
END:VEVENT
BEGIN:VEVENT
DTSTART;TZID=America/Chicago:20250814T100000
DTEND;TZID=America/Chicago:20250814T110000
DTSTAMP:20260423T015020
CREATED:20250520T204515Z
LAST-MODIFIED:20250813T210217Z
UID:10007890-1755165600-1755169200@watertownfirst.church
SUMMARY:Women's Bible Study
DESCRIPTION:
URL:https://watertownfirst.church/event/womens-bible-study-59/
LOCATION:Fellowship Hall
CATEGORIES:Grow Groups
END:VEVENT
BEGIN:VEVENT
DTSTART;TZID=America/Chicago:20250816T070000
DTEND;TZID=America/Chicago:20250816T080000
DTSTAMP:20260423T015020
CREATED:20250520T204515Z
LAST-MODIFIED:20250815T210415Z
UID:10007894-1755327600-1755331200@watertownfirst.church
SUMMARY:Back Room Boys
DESCRIPTION:Men’s group meets in the church library for Bible Study discussion over rolls and coffee.
URL:https://watertownfirst.church/event/back-room-boys-141/
CATEGORIES:Grow Groups
END:VEVENT
BEGIN:VEVENT
DTSTART;TZID=America/Chicago:20250816T090000
DTEND;TZID=America/Chicago:20250816T100000
DTSTAMP:20260423T015020
CREATED:20250520T204515Z
LAST-MODIFIED:20250815T210415Z
UID:10007895-1755334800-1755338400@watertownfirst.church
SUMMARY:Late Risers
DESCRIPTION:Meets every Saturday at 9 am in the back room of The Grainary at Stone’s Truckstop. Over rolls and coffee\, this men’s group has a time of fellowship then discusses a reading from the Upper Room daily devotional. If you enjoy conversation\, camaraderie and spiritual discussion\, you’ll probably enjoy this group.
URL:https://watertownfirst.church/event/late-risers-141/
CATEGORIES:Grow Groups
END:VEVENT
BEGIN:VEVENT
DTSTART;TZID=America/Chicago:20250816T150000
DTEND;TZID=America/Chicago:20250816T160000
DTSTAMP:20260423T015020
CREATED:20250520T204551Z
LAST-MODIFIED:20250815T215002Z
UID:10007892-1755356400-1755360000@watertownfirst.church
SUMMARY:Praise Band Rehearsal
DESCRIPTION:We are always looking for folks that are interested in music to join the praise band (instrumental or vocal) or anyone interested in Technology to help in our sound booth (training available).  The praise band rehearses each Saturday at 3pm and leads worship music at the 5 pm worship service.  If you are interested in learning more or to volunteer\, please contact Lucas Severson.
URL:https://watertownfirst.church/event/praise-band-rehearsal-140/
CATEGORIES:Church Wide
END:VEVENT
BEGIN:VEVENT
DTSTART;TZID=America/Chicago:20250816T170000
DTEND;TZID=America/Chicago:20250816T180000
DTSTAMP:20260423T015020
CREATED:20250520T204433Z
LAST-MODIFIED:20250816T215635Z
UID:10007891-1755363600-1755367200@watertownfirst.church
SUMMARY:First Kids
DESCRIPTION:If you are age 4-Grade 4\, join us for First Kids (think traditional Sunday school\, but on Saturdays too\, and more fun!).\nKids will start in worship and move downstairs after opening music\, prayers\, and our Time for Young Disciples. They will remain downstairs for the duration of worship\, when parents can pick them up downstairs (in our Fellowship Hall).\nPlease note: children will stay in worship the first weekend of every month so they can join their family in worship — and share in the sacrament of Holy Communion.
URL:https://watertownfirst.church/event/first-kids-181/
CATEGORIES:First Kids
END:VEVENT
BEGIN:VEVENT
DTSTART;TZID=America/Chicago:20250816T170000
DTEND;TZID=America/Chicago:20250816T180000
DTSTAMP:20260423T015020
CREATED:20250520T204551Z
LAST-MODIFIED:20250816T214836Z
UID:10007893-1755363600-1755367200@watertownfirst.church
SUMMARY:Contemporary Worship
DESCRIPTION:Contemporary Worship Service in person and online.
URL:https://watertownfirst.church/event/contemporary-worship-140/
CATEGORIES:Church Wide
END:VEVENT
BEGIN:VEVENT
DTSTART;TZID=America/Chicago:20250817T093000
DTEND;TZID=America/Chicago:20250817T103000
DTSTAMP:20260423T015020
CREATED:20250520T204319Z
LAST-MODIFIED:20250520T204319Z
UID:10007898-1755423000-1755426600@watertownfirst.church
SUMMARY:Unity Worship
DESCRIPTION:In Person & Online Blended Worship here at First UMC
URL:https://watertownfirst.church/event/unity-worship-12/
LOCATION:Sanctuary
CATEGORIES:Church Wide
END:VEVENT
BEGIN:VEVENT
DTSTART;TZID=America/Chicago:20250817T100000
DTEND;TZID=America/Chicago:20250817T110000
DTSTAMP:20260423T015020
CREATED:20250520T204433Z
LAST-MODIFIED:20250816T215635Z
UID:10007896-1755424800-1755428400@watertownfirst.church
SUMMARY:First Kids
DESCRIPTION:If you are age 4-Grade 4\, join us for First Kids (think traditional Sunday school\, but on Saturdays too\, and more fun!).\nKids will start in worship and move downstairs after opening music\, prayers\, and our Time for Young Disciples. They will remain downstairs for the duration of worship\, when parents can pick them up downstairs (in our Fellowship Hall).\nPlease note: children will stay in worship the first weekend of every month so they can join their family in worship — and share in the sacrament of Holy Communion.
URL:https://watertownfirst.church/event/first-kids-182/
CATEGORIES:First Kids
END:VEVENT
BEGIN:VEVENT
DTSTART;TZID=America/Chicago:20250817T100000
DTEND;TZID=America/Chicago:20250817T110000
DTSTAMP:20260423T015020
CREATED:20250520T204433Z
LAST-MODIFIED:20250816T215635Z
UID:10007897-1755424800-1755428400@watertownfirst.church
SUMMARY:First Kids School
DESCRIPTION:Children 4 years old and up are invited to join First Kids School following the Time for Young Disciples and will return to worship to join their families prior to the closing time of worship.
URL:https://watertownfirst.church/event/first-kids-school-158/
CATEGORIES:First Kids
END:VEVENT
BEGIN:VEVENT
DTSTART;TZID=America/Chicago:20250819T100000
DTEND;TZID=America/Chicago:20250819T113000
DTSTAMP:20260423T015020
CREATED:20250521T200238Z
LAST-MODIFIED:20250818T221926Z
UID:10007935-1755597600-1755603000@watertownfirst.church
SUMMARY:Prayer Team
DESCRIPTION:
URL:https://watertownfirst.church/event/prayer-team-13/
CATEGORIES:Serve Opportunities
END:VEVENT
BEGIN:VEVENT
DTSTART;TZID=America/Chicago:20250819T113000
DTEND;TZID=America/Chicago:20250819T123000
DTSTAMP:20260423T015020
CREATED:20250908T185255Z
LAST-MODIFIED:20250908T185255Z
UID:10007947-1755603000-1755606600@watertownfirst.church
SUMMARY:Lunch A Bunch
DESCRIPTION:Join us at Godfather’s Pizza on the 3rd Tuesday of each month for good food and great conversation.  Intended for those 70 and older but anyone is welcome!
URL:https://watertownfirst.church/event/lunch-a-bunch-33/
CATEGORIES:Grow Groups
END:VEVENT
BEGIN:VEVENT
DTSTART;TZID=America/Chicago:20250820T091500
DTEND;TZID=America/Chicago:20250820T101500
DTSTAMP:20260423T015020
CREATED:20250908T185256Z
LAST-MODIFIED:20250908T185256Z
UID:10007959-1755681300-1755684900@watertownfirst.church
SUMMARY:Embracing God Bible Study
DESCRIPTION:
URL:https://watertownfirst.church/event/embracing-god-bible-study-11/
CATEGORIES:Grow Groups
END:VEVENT
BEGIN:VEVENT
DTSTART;TZID=America/Chicago:20250821T100000
DTEND;TZID=America/Chicago:20250821T110000
DTSTAMP:20260423T015020
CREATED:20250908T185256Z
LAST-MODIFIED:20250908T185256Z
UID:10007971-1755770400-1755774000@watertownfirst.church
SUMMARY:Women's Bible Study
DESCRIPTION:
URL:https://watertownfirst.church/event/womens-bible-study-60/
LOCATION:Fellowship Hall
CATEGORIES:Grow Groups
END:VEVENT
BEGIN:VEVENT
DTSTART;TZID=America/Chicago:20250823T070000
DTEND;TZID=America/Chicago:20250823T080000
DTSTAMP:20260423T015020
CREATED:20250908T185256Z
LAST-MODIFIED:20250908T185256Z
UID:10007996-1755932400-1755936000@watertownfirst.church
SUMMARY:Back Room Boys
DESCRIPTION:Men’s group meets in the church library for Bible Study discussion over rolls and coffee.
URL:https://watertownfirst.church/event/back-room-boys-142/
CATEGORIES:Grow Groups
END:VEVENT
BEGIN:VEVENT
DTSTART;TZID=America/Chicago:20250823T090000
DTEND;TZID=America/Chicago:20250823T100000
DTSTAMP:20260423T015020
CREATED:20250908T185256Z
LAST-MODIFIED:20250908T185256Z
UID:10007997-1755939600-1755943200@watertownfirst.church
SUMMARY:Late Risers
DESCRIPTION:Meets every Saturday at 9 am in the back room of The Grainary at Stone’s Truckstop. Over rolls and coffee\, this men’s group has a time of fellowship then discusses a reading from the Upper Room daily devotional. If you enjoy conversation\, camaraderie and spiritual discussion\, you’ll probably enjoy this group.
URL:https://watertownfirst.church/event/late-risers-142/
CATEGORIES:Grow Groups
END:VEVENT
BEGIN:VEVENT
DTSTART;TZID=America/Chicago:20250823T150000
DTEND;TZID=America/Chicago:20250823T160000
DTSTAMP:20260423T015020
CREATED:20250908T185257Z
LAST-MODIFIED:20250908T185257Z
UID:10007994-1755961200-1755964800@watertownfirst.church
SUMMARY:Praise Band Rehearsal
DESCRIPTION:We are always looking for folks that are interested in music to join the praise band (instrumental or vocal) or anyone interested in Technology to help in our sound booth (training available).  The praise band rehearses each Saturday at 3pm and leads worship music at the 5 pm worship service.  If you are interested in learning more or to volunteer\, please contact Lucas Severson.
URL:https://watertownfirst.church/event/praise-band-rehearsal-141/
CATEGORIES:Church Wide
END:VEVENT
BEGIN:VEVENT
DTSTART;TZID=America/Chicago:20250823T170000
DTEND;TZID=America/Chicago:20250823T180000
DTSTAMP:20260423T015020
CREATED:20250908T185257Z
LAST-MODIFIED:20250908T185257Z
UID:10007983-1755968400-1755972000@watertownfirst.church
SUMMARY:First Kids
DESCRIPTION:If you are age 4-Grade 4\, join us for First Kids (think traditional Sunday school\, but on Saturdays too\, and more fun!).\nKids will start in worship and move downstairs after opening music\, prayers\, and our Time for Young Disciples. They will remain downstairs for the duration of worship\, when parents can pick them up downstairs (in our Fellowship Hall).\nPlease note: children will stay in worship the first weekend of every month so they can join their family in worship — and share in the sacrament of Holy Communion.
URL:https://watertownfirst.church/event/first-kids-183/
CATEGORIES:First Kids
END:VEVENT
BEGIN:VEVENT
DTSTART;TZID=America/Chicago:20250823T170000
DTEND;TZID=America/Chicago:20250823T180000
DTSTAMP:20260423T015020
CREATED:20250908T185257Z
LAST-MODIFIED:20250908T185257Z
UID:10007995-1755968400-1755972000@watertownfirst.church
SUMMARY:Contemporary Worship
DESCRIPTION:Contemporary Worship Service in person and online.
URL:https://watertownfirst.church/event/contemporary-worship-141/
CATEGORIES:Church Wide
END:VEVENT
BEGIN:VEVENT
DTSTART;TZID=America/Chicago:20250824T093000
DTEND;TZID=America/Chicago:20250824T103000
DTSTAMP:20260423T015020
CREATED:20250908T185257Z
LAST-MODIFIED:20250908T185257Z
UID:10008009-1756027800-1756031400@watertownfirst.church
SUMMARY:Unity Worship
DESCRIPTION:Worship together with us\, in-person and online. Our unity worship is a service that blends traditional\, contemporary and more types of worship.
URL:https://watertownfirst.church/event/unity-worship-15/
CATEGORIES:Church Wide
END:VEVENT
END:VCALENDAR